Workbook
Name active_row: CELL("row")-CELL("row",'Data analysis'!rng_h)+1
Name active_row: CELL("row")-CELL("row",rng_h)+1
Name arr_01: MMULT(--(MATCH(ROW(#REF!),'Data analysis'!arr_s,1)='Data analysis'!arr_c),'Data analysis'!rng_h)*ISERROR(MATCH(ROW(#REF!),INT('Data analysis'!arr_s)+1,0))
Name arr_01: MMULT(--(MATCH(ROW(#REF!),arr_s,1)=arr_c),rng_h)*ISERROR(MATCH(ROW(#REF!),INT(arr_s)+1,0))
Name arr_1: MOD(MATCH(ROW(#REF!),'Data analysis'!arr_s,1),2)*MATCH(ROW(#REF!),'Data analysis'!arr_s,1)
Name arr_1: MOD(MATCH(ROW(#REF!),arr_s,1),2)*MATCH(ROW(#REF!),arr_s,1)
Name arr_2: (MOD(MATCH(ROW(#REF!),'Data analysis'!arr_s,1),2)=0)*MATCH(ROW(#REF!),'Data analysis'!arr_s,1)
Name arr_2: (MOD(MATCH(ROW(#REF!),arr_s,1),2)=0)*MATCH(ROW(#REF!),arr_s,1)
Name arr_3: (MATCH(ROW(#REF!),'Data analysis'!arr_s,1)='Data analysis'!active_row)*MATCH(ROW(#REF!),'Data analysis'!arr_s,1)
Name arr_3: (MATCH(ROW(#REF!),arr_s,1)=active_row)*MATCH(ROW(#REF!),arr_s,1)
Name arr_c: COLUMN(OFFSET(#REF!,,,,ROWS('Data analysis'!rng_h)))
Name arr_c: COLUMN(OFFSET(#REF!,,,,ROWS(rng_h)))
Name arr_pie: TRANSPOSE('Data analysis'!arr_c^0)
Name arr_pie: TRANSPOSE(arr_c^0)
Name arr_s: MMULT(--(ROW('Data analysis'!rng_a)>TRANSPOSE(ROW('Data analysis'!rng_a))),'Data analysis'!rng_a/SUM('Data analysis'!rng_a)*360)
Name arr_s: MMULT(--(ROW(rng_a)>TRANSPOSE(ROW(rng_a))),rng_a/SUM(rng_a)*360)
Name arr_s3: MMULT(--('Data analysis'!arr_3='Data analysis'!arr_c),'Data analysis'!rng_h)
Name arr_s3: MMULT(--(arr_3=arr_c),rng_h)
Name arr_s4: ROW(#REF!)^0*40*(MEDIAN(CELL("row"),CELL("row",'Data analysis'!rng_h),MAX(ROW('Data analysis'!rng_h)))=CELL("row"))
Name arr_s4: ROW(#REF!)^0*40*(MEDIAN(CELL("row"),CELL("row",rng_h),MAX(ROW(rng_h)))=CELL("row"))
Name arr_s5: 'Data analysis'!arr_s4*2/3
Name arr_s5: arr_s4*2/3
Name arr_s6: MMULT(--(MATCH(ROW(#REF!),'Data analysis'!arr_s,1)='Data analysis'!arr_c),'Data analysis'!rng_h)*(CELL("row")=MEDIAN(CELL("row"),CELL("row",'Data analysis'!rng_h),MAX(ROW('Data analysis'!rng_h))))
Name arr_s6: MMULT(--(MATCH(ROW(#REF!),arr_s,1)=arr_c),rng_h)*(CELL("row")=MEDIAN(CELL("row"),CELL("row",rng_h),MAX(ROW(rng_h))))
Name final: CHOOSE(#REF!,[0]!HALINI,[0]!SUJAWAL,[0]!GHAURI,[0]!MARI,[0]!KOONJ)
Name final: CHOOSE(#REF!,HALINI,SUJAWAL,GHAURI,MARI,KOONJ)
Name lop: OFFSET([1]LOP!$A$2,0,0,COUNTA([1]LOP!$A:$A)-1,1)
Name Month: OFFSET(#REF!,0,#REF!,1,6)
Name Month: OFFSET(#REF!,0,#REF!,1,6)
Name rng_a: OFFSET('Data analysis'!rng_h,,-1)
Name rng_a: OFFSET(rng_h,,-1)
Name rng_h: #REF!:INDEX(#REF!,COUNTA(#REF!))
Name SalesMonth: OFFSET(#REF!,0,MATCH(#REF!,#REF!,0)-1)
Name SalesMonth: OFFSET(#REF!,0,MATCH(#REF!,#REF!,0)-1)
Name SalesMonth_1: OFFSET(#REF!,0,MATCH(#REF!,#REF!,0)-1)
Name SalesMonth_1: OFFSET(#REF!,0,MATCH(#REF!,#REF!,0)-1)
Name SalesMonth_10: OFFSET(#REF!,0,MATCH(#REF!,#REF!,0)-1)
Name SalesMonth_10: OFFSET(#REF!,0,MATCH(#REF!,#REF!,0)-1)
Name SalesMonth_11: OFFSET(#REF!,0,MATCH(#REF!,#REF!,0)-1)
Name SalesMonth_11: OFFSET(#REF!,0,MATCH(#REF!,#REF!,0)-1)
Name SalesMonth_12: OFFSET(#REF!,0,MATCH(#REF!,#REF!,0)-1)
Name SalesMonth_12: OFFSET(#REF!,0,MATCH(#REF!,#REF!,0)-1)
Name SalesMonth_2: OFFSET(#REF!,0,MATCH(#REF!,#REF!,0)-1)
Name SalesMonth_2: OFFSET(#REF!,0,MATCH(#REF!,#REF!,0)-1)
Name SalesMonth_3: OFFSET(#REF!,0,MATCH(#REF!,#REF!,0)-1)
Name SalesMonth_3: OFFSET(#REF!,0,MATCH(#REF!,#REF!,0)-1)
Name SalesMonth_4: OFFSET(#REF!,0,MATCH(#REF!,#REF!,0)-1)
Name SalesMonth_4: OFFSET(#REF!,0,MATCH(#REF!,#REF!,0)-1)
Name SalesMonth_5: OFFSET(#REF!,0,MATCH(#REF!,#REF!,0)-1)
Name SalesMonth_5: OFFSET(#REF!,0,MATCH(#REF!,#REF!,0)-1)
Name SalesMonth_6: OFFSET(#REF!,0,MATCH(#REF!,#REF!,0)-1)
Name SalesMonth_6: OFFSET(#REF!,0,MATCH(#REF!,#REF!,0)-1)
Name SalesMonth_7: OFFSET(#REF!,0,MATCH(#REF!,#REF!,0)-1)
Name SalesMonth_7: OFFSET(#REF!,0,MATCH(#REF!,#REF!,0)-1)
Name SalesMonth_8: OFFSET(#REF!,0,MATCH(#REF!,#REF!,0)-1)
Name SalesMonth_8: OFFSET(#REF!,0,MATCH(#REF!,#REF!,0)-1)
Name SalesMonth_9: OFFSET(#REF!,0,MATCH(#REF!,#REF!,0)-1)
Name SalesMonth_9: OFFSET(#REF!,0,MATCH(#REF!,#REF!,0)-1)

Sheet Data
A1: QHSE Dashboard
A2: Category | C2: Ene | D2: Feb | E2: Mar | F2: Abr | G2: May | H2: Jun | I2: Jul | J2: Ago | K2: Sep | L2: Oct | M2: Nov | N2: Dic
A3: KPI - Leading | B3: Horas hombre totales trabajadas | C3: 3329 | D3: 3428 | E3: 2904 | F3: 2873 | G3: 3312 | H3: 98 | I3: 3432 | J3: 0 | K3: 0 | L3: 0 | M3: 0 | N3: 0
B4: Horas hombre totales trabajadas contratistas | C4: 0 | D4: 0 | E4: 0 | F4: 0 | G4: 0 | H4: 0 | I4: 0 | J4: 0 | K4: 0 | L4: 0 | M4: 0 | N4: 0
B5: Incidentes de cuasi-accidentes reportados | C5: 0 | D5: 0 | E5: 0 | F5: 0 | G5: 0 | H5: 1 | I5: 1 | J5: 0 | K5: 0 | L5: 0 | M5: 0 | N5: 0
B6: Observaciones de comportamiento en HSE | C6: 10 | D6: 12 | E6: 15 | F6: 16 | G6: 17 | H6: 9 | I6: 10 | J6: 0 | K6: 0 | L6: 0 | M6: 0 | N6: 0
B7: Inspecciones HSE realizadas | C7: 14 | D7: 15 | E7: 15 | F7: 16 | G7: 15 | H7: 15 | I7: 15 | J7: 0 | K7: 0 | L7: 0 | M7: 0 | N7: 0
B8: Reuniones de HSE | C8: 3 | D8: 6 | E8: 2 | F8: 2 | G8: 3 | H8: 5 | I8: 1 | J8: 0 | K8: 0 | L8: 0 | M8: 0 | N8: 0
B9: Auditorías realizadas | C9: 0 | D9: 0 | E9: 1 | F9: 0 | G9: 0 | H9: 1 | I9: 0 | J9: 0 | K9: 0 | L9: 0 | M9: 0 | N9: 0
B10: Inducciones | C10: 5 | D10: 14 | E10: 5 | F10: 4 | G10: 3 | H10: 8 | I10: 9 | J10: 0 | K10: 0 | L10: 0 | M10: 0 | N10: 0
B11: Identificación de nuevos peligros | C11: 2 | D11: 3 | E11: 4 | F11: 1 | G11: 2 | H11: 4 | I11: 6 | J11: 0 | K11: 0 | L11: 0 | M11: 0 | N11: 0
B12: Número de simulacros de emergencia realizados | C12: 1 | D12: 0 | E12: 0 | F12: 0 | G12: 0 | H12: 0 | I12: 0 | J12: 1 | K12: 0 | L12: 0 | M12: 0 | N12: 0
A14: Objetivos fijados
A15: =B8 -> Reuniones de HSE | B15: 2
A16: =B9 -> Auditorías realizadas | B16: 0

Sheet Dashboard
A1: QHSE Dashboard | X1: NM | Y1: =Data!C5 -> 0 | Z1: =Data!D5 -> 0 | AA1: =Data!E5 -> 0 | AB1: =Data!F5 -> 0 | AC1: =Data!G5 -> 0 | AD1: =Data!H5 -> 1 | AE1: =Data!I5 -> 1 | AF1: =Data!J5 -> 0 | ... AJ1: =Data!N5 -> 0
X3: Ob | Y3: =Data!C6 -> 10 | Z3: =Data!D6 -> 12 | AA3: =Data!E6 -> 15 | AB3: =Data!F6 -> 16 | AC3: =Data!G6 -> 17 | AD3: =Data!H6 -> 9 | AE3: =Data!I6 -> 10 | AF3: =Data!J6 -> 0 | ... AJ3: =Data!N6 -> 0
X5: WA | Y5: =Data!C7 -> 14 | Z5: =Data!D7 -> 15 | AA5: =Data!E7 -> 15 | AB5: =Data!F7 -> 16 | AC5: =Data!G7 -> 15 | AD5: =Data!H7 -> 15 | AE5: =Data!I7 -> 15 | AF5: =Data!J7 -> 0 | ... AJ5: =Data!N7 -> 0

Sheet Data analysis
A1: Category | B1: Jan | C1: Feb | D1: Mar | E1: Apr | F1: May | G1: Jun | H1: Jul | I1: Aug | J1: Sep | K1: Oct | L1: Nov | M1: Dec | N1: Average
A2: =Data!B3 -> Horas hombre totales trabajadas | B2: =Data!C3 -> 3329 | C2: =Data!D3 -> 3428 | D2: =Data!E3 -> 2904 | E2: =Data!F3 -> 2873 | F2: =Data!G3 -> 3312 | G2: =Data!H3 -> 98 | H2: =Data!I3 -> 3432 | ... M2: =Data!N3 -> 0 | N2: =AVERAGE(B2:M2) -> 1614.6667
A10: Category | B10: Jan | C10: Feb | D10: Mar | E10: Apr | F10: May | G10: Jun | H10: Jul | I10: Aug | J10: Sep | K10: Oct | L10: Nov | M10: Dec | N10: Average
A11: =Data!B4 -> Horas hombre totales trabajadas contratistas | B11: =Data!C4 -> 0 | C11: =Data!D4 -> 0 | D11: =Data!E4 -> 0 | E11: =Data!F4 -> 0 | F11: =Data!G4 -> 0 | G11: =Data!H4 -> 0 | H11: =Data!I4 -> 0 | ... M11: =Data!N4 -> 0 | N11: =AVERAGE(B11:M11) -> 0
A18: Category | B18: Jan | C18: Feb | D18: Mar | E18: Apr | F18: May | G18: Jun | H18: Jul | I18: Aug | J18: Sep | K18: Oct | L18: Nov | M18: Dec
A19: Induction | B19: =Data!C10 -> 5 | C19: =Data!D10 -> 14 | D19: =Data!E10 -> 5 | E19: =Data!F10 -> 4 | F19: =Data!G10 -> 3 | G19: =Data!H10 -> 8 | H19: =Data!I10 -> 9 | I19: =Data!J10 -> 0 | ... M19: =Data!N10 -> 0
A21: Category | B21: Jan | C21: Feb | D21: Mar | E21: Apr | F21: May | G21: Jun | H21: Jul | I21: Aug | J21: Sep | K21: Oct | L21: Nov | M21: Dec
A22: Hazard Identification | B22: =Data!C11 -> 2 | C22: =Data!D11 -> 3 | D22: =Data!E11 -> 4 | E22: =Data!F11 -> 1 | F22: =Data!G11 -> 2 | G22: =Data!H11 -> 4 | H22: =Data!I11 -> 6 | I22: =Data!J11 -> 0 | ... M22: =Data!N11 -> 0
A24: Category | B24: Jan | C24: Feb | D24: Mar | E24: Apr | F24: May | G24: Jun | H24: Jul | I24: Aug | J24: Sep | K24: Oct | L24: Nov | M24: Dec
A25: Emergency Drill | B25: =Data!C12 -> 1 | C25: =Data!D12 -> 0 | D25: =Data!E12 -> 0 | E25: =Data!F12 -> 0 | F25: =Data!G12 -> 0 | G25: =Data!H12 -> 0 | H25: =Data!I12 -> 0 | I25: =Data!J12 -> 1 | ... M25: =Data!N12 -> 0

Sheet meeting chart
A2: Percentage | B2: =(SUM(Data!C8:N8)/(Data!B15*12))*100 -> 91.666667
A3: HSE meeting Target

Sheet meeting data
A1: Bands | B1: Dial | C1: Dial Lables | D1: Lables | E1: Needle
A2: 25 | B2: 180 | C2: 180 | E2: 180 | F2: Share
A3: 75 | B3: =$B$2/100*A2 -> 45 | C3: 9 | D3: 0 | E3: =((B2/100)*F3)-1 -> 164 | F3: =IF('meeting chart'!B2>100,100,'meeting chart'!B2) -> 91.666667
B4: =$B$2/100*(A3-A2) -> 90 | C4: 18 | D4: 0.1 | E4: 1
B5: =B2*2-SUM(B2:B4) -> 45 | C5: 18 | D5: 0.2 | E5: =360-SUM(E2:E4) -> 15
C6: 18 | D6: 0.3
C7: 18 | D7: 0.4
C8: 18 | D8: 0.5
C9: 18 | D9: 0.6
C10: 18 | D10: 0.7
C11: 18 | D11: 0.8
C12: 18 | D12: 0.9
C13: 9 | D13: 1

Sheet audit chart
A1: Percentage | B1: =SUM(Data!C9:N9)/(Data!B16*12)*100 -> #DIV/0!

Sheet audit data
A1: Bands | B1: Dial | C1: Dial Lables | D1: Lables | E1: Needle
A2: 25 | B2: 180 | C2: 180 | D2: ='audit chart'!B1&" "&'audit chart'!#REF! -> #DIV/0! | E2: 180 | F2: Share
A3: 75 | B3: =$B$2/100*A2 -> 45 | C3: 9 | D3: 0 | E3: =((B2/100)*F3)-1 -> #DIV/0! | F3: =IF('audit chart'!B1>100,100%,'audit chart'!B1) -> #DIV/0!
B4: =$B$2/100*(A3-A2) -> 90 | C4: 18 | D4: 0.1 | E4: 1
B5: =B2*2-SUM(B2:B4) -> 45 | C5: 18 | D5: 0.2 | E5: =360-SUM(E2:E4) -> #DIV/0!
C6: 18 | D6: 0.3
C7: 18 | D7: 0.4
C8: 18 | D8: 0.5
C9: 18 | D9: 0.6
C10: 18 | D10: 0.7
C11: 18 | D11: 0.8
C12: 18 | D12: 0.9
C13: 9 | D13: 1
